BEGIN:VCALENDAR
VERSION:2.0
PRODID:-//Schwuhplattler e.V.//NONSGML kigkonsult.se iCalcreator 2.41.92//
CALSCALE:GREGORIAN
METHOD:PUBLISH
UID:30636264-3866-4239-b638-643665303930
X-WR-CALNAME:iCagenda
X-WR-CALDESC:Event Management Extension for Joomla!
X-WR-RELCALID:3E26604A-50F4-4449-8B3E-E4F4932D05B5
X-WR-TIMEZONE:UTC
BEGIN:VTIMEZONE
TZID:UTC
END:VTIMEZONE
BEGIN:VEVENT
UID:31383464-6633-4063-a430-666631646230
DTSTAMP:20260421T154611Z
CATEGORIES:Plattlprobe
CLASS:PUBLIC
DESCRIPTION;ALTREP="CID:<FFFF__=0ABBE548DFE235B58f9e8a93d@coffeebean.com>":
 Plattlprobe der Schwuhplattler\n \nAb 19 Uhr: Anfängerprobe\nAb 20 Uhr: Fo
 rtgeschrittenenprobe\n \nOrt: Döllinger-Saal\, Alt-Katholische Kirche St. 
 Willibrord\, Blumenstraße 36\, 80331 München \n \n 
DTSTART:20260619T190000Z
DTEND:20260619T190000Z
GEO:00;0
LOCATION:
ORGANIZER:
SEQUENCE:1
SUMMARY:Plattlprobe
TRANSP:OPAQUE
URL:https://www.schwuhplattler-muenchen.de/termine/36-plattlprobe/2026-06-1
 9-19-00
END:VEVENT
END:VCALENDAR
