BEGIN:VCALENDAR
VERSION:2.0
PRODID:-//Schwuhplattler e.V.//NONSGML kigkonsult.se iCalcreator 2.41.92//
CALSCALE:GREGORIAN
METHOD:PUBLISH
UID:61323039-3036-4132-a138-383536623332
X-WR-CALNAME:iCagenda
X-WR-CALDESC:Event Management Extension for Joomla!
X-WR-RELCALID:3E26604A-50F4-4449-8B3E-E4F4932D05B5
X-WR-TIMEZONE:UTC
BEGIN:VTIMEZONE
TZID:UTC
END:VTIMEZONE
BEGIN:VEVENT
UID:64376433-3365-4233-b933-653432663231
DTSTAMP:20260420T084725Z
CATEGORIES:Plattlprobe
CLASS:PUBLIC
DESCRIPTION;ALTREP="CID:<FFFF__=0ABBE548DFE235B58f9e8a93d@coffeebean.com>":
 Plattlprobe der Schwuhplattler\n \nAb 19 Uhr: Anfängerprobe\nAb 20 Uhr: Fo
 rtgeschrittenenprobe\n \nOrt: Döllinger-Saal\, Alt-Katholische Kirche St. 
 Willibrord\, Blumenstraße 36\, 80331 München \n \n 
DTSTART:20240303T143000Z
DTEND:20240303T143000Z
GEO:00;0
LOCATION:
ORGANIZER:
SEQUENCE:1
SUMMARY:Plattlprobe
TRANSP:OPAQUE
URL:http://www.schwuhplattler-muenchen.de/termine/36-plattlprobe/2024-03-03
 -14-30
END:VEVENT
END:VCALENDAR
